BEGIN:VCALENDAR
PRODID:-//Microsoft Corporation//Outlook MIMEDIR//EN
VERSION:2.0
METHOD:PUBLISH
BEGIN:VEVENT
DTSTART:20260428T093000
DTEND:20260428T103000
DESCRIPTION:AGENDA POSTED: April 22, 2026  MEETING TELEVISED: Wednesday, April 29, 2026 at 11:00 P.M. on KLCS
LOCATION:BOARD HEARING ROOM 381B
SUMMARY:Board of Supervisors
CATEGORIES:MEETING
END:VEVENT
END:VCALENDAR
